Workbook

Sheet KPIs
C1: =TEXT(TODAY(),"mmm-yy") -> Oct-26 | D1: =TEXT(EDATE(TODAY(),-1),"mmm-yy") -> Sep-26 | E1: =YEAR(TODAY()) -> 2026 | F1: =YEAR(TODAY())-1 -> 2025
A2: Famille | B2: KPIs | C2: Mois en cours | D2: Mois précédent | E2: Année en cours | F2: Année précédente | G2: Jan-26 | H2: Feb-26 | I2: Mar-26 | J2: Apr-26 | K2: May-26 | L2: Jun-26 | M2: Jul-26 | N2: Aug-26 | O2: Sep-26 | P2: Oct-26 | Q2: Nov-26 | R2: Dec-26
A3: Ventes | B3: Total vente (CA) | C3: =SUMIFS(Table1368[Prix de revente],Table1368[Date revente],">="&EOMONTH(TODAY(),-1)+1,Table1368[Date revente],"<"&EOMONTH(TODAY(),0)+1) -> 1362 | D3: =SUMIFS(Table1368[Prix de revente],Table1368[Date revente],">="&EOMONTH(TODAY(),-2)+1,Table1368[Date revente],"<"&EOMONTH(TODAY(),-1)+1) -> 3524 | E3: =SUMIFS(Table1368[Prix de revente],Table1368[Date revente],">="&DATE(YEAR(TODAY()),1,1),Table1368[Date revente],"<"&DATE(YEAR(TODAY())+1,1,1)) -> 19298.38 | F3: =SUMIFS(Table1368[Prix de revente],Table1368[Date revente],">="&DATE(YEAR(TODAY())-1,1,1),Table1368[Date revente],"<"&DATE(YEAR(TODAY()),1,1)) -> 3249.3 | G3: =IF(SUMIFS(Table1368[[Prix de revente]:[Prix de revente]],Table1368[[Date revente]:[Date revente]],">="&G$2,Table1368[[Date revente]:[Date revente]],"<"&EDATE(G$2,1))=0,"-",SUMIFS(Table1368[[Prix de revente]:[Prix de revente]],Table1368[[Date revente]:[Date revente]],">="&G$2,Table1368[[Date revente]:[Date revente]],"<"&EDATE(G$2,1))) -> 1378.5 | H3: =IF(SUMIFS(Table1368[[Prix de revente]:[Prix de revente]],Table1368[[Date revente]:[Date revente]],">="&H$2,Table1368[[Date revente]:[Date revente]],"<"&EDATE(H$2,1))=0,"-",SUMIFS(Table1368[[Prix de revente]:[Prix de revente]],Table1368[[Date revente]:[Date revente]],">="&H$2,Table1368[[Date revente]:[Date revente]],"<"&EDATE(H$2,1))) -> 1448.6 | I3: =IF(SUMIFS(Table1368[[Prix de revente]:[Prix de revente]],Table1368[[Date revente]:[Date revente]],">="&I$2,Table1368[[Date revente]:[Date revente]],"<"&EDATE(I$2,1))=0,"-",SUMIFS(Table1368[[Prix de revente]:[Prix de revente]],Table1368[[Date revente]:[Date revente]],">="&I$2,Table1368[[Date revente]:[Date revente]],"<"&EDATE(I$2,1))) -> 1728.6 | J3: =IF(SUMIFS(Table1368[[Prix de revente]:[Prix de revente]],Table1368[[Date revente]:[Date revente]],">="&J$2,Table1368[[Date revente]:[Date revente]],"<"&EDATE(J$2,1))=0,"-",SUMIFS(Table1368[[Prix de revente]:[Prix de revente]],Table1368[[Date revente]:[Date revente]],">="&J$2,Table1368[[Date revente]:[Date revente]],"<"&EDATE(J$2,1))) -> 2089.9 | K3: =IF(SUMIFS(Table1368[[Prix de revente]:[Prix de revente]],Table1368[[Date revente]:[Date revente]],">="&K$2,Table1368[[Date revente]:[Date revente]],"<"&EDATE(K$2,1))=0,"-",SUMIFS(Table1368[[Prix de revente]:[Prix de revente]],Table1368[[Date revente]:[Date revente]],">="&K$2,Table1368[[Date revente]:[Date revente]],"<"&EDATE(K$2,1))) -> 2418.1 | L3: =IF(SUMIFS(Table1368[[Prix de revente]:[Prix de revente]],Table1368[[Date revente]:[Date revente]],">="&L$2,Table1368[[Date revente]:[Date revente]],"<"&EDATE(L$2,1))=0,"-",SUMIFS(Table1368[[Prix de revente]:[Prix de revente]],Table1368[[Date revente]:[Date revente]],">="&L$2,Table1368[[Date revente]:[Date revente]],"<"&EDATE(L$2,1))) -> 2631.88 | M3: =IF(SUMIFS(Table1368[[Prix de revente]:[Prix de revente]],Table1368[[Date revente]:[Date revente]],">="&M$2,Table1368[[Date revente]:[Date revente]],"<"&EDATE(M$2,1))=0,"-",SUMIFS(Table1368[[Prix de revente]:[Prix de revente]],Table1368[[Date revente]:[Date revente]],">="&M$2,Table1368[[Date revente]:[Date revente]],"<"&EDATE(M$2,1))) -> 1745.7 | N3: =IF(SUMIFS(Table1368[[Prix de revente]:[Prix de revente]],Table1368[[Date revente]:[Date revente]],">="&N$2,Table1368[[Date revente]:[Date revente]],"<"&EDATE(N$2,1))=0,"-",SUMIFS(Table1368[[Prix de revente]:[Prix de revente]],Table1368[[Date revente]:[Date revente]],">="&N$2,Table1368[[Date revente]:[Date revente]],"<"&EDATE(N$2,1))) -> 971.1 | ... R3: =IF(SUMIFS(Table1368[[Prix de revente]:[Prix de revente]],Table1368[[Date revente]:[Date revente]],">="&R$2,Table1368[[Date revente]:[Date revente]],"<"&EDATE(R$2,1))=0,"-",SUMIFS(Table1368[[Prix de revente]:[Prix de revente]],Table1368[[Date revente]:[Date revente]],">="&R$2,Table1368[[Date revente]:[Date revente]],"<"&EDATE(R$2,1))) -> -
A4: Ventes | B4: Total Bénéfice Brut | C4: =SUMIFS(Table1368[Bénéfice],Table1368[Date revente],">="&EOMONTH(TODAY(),-1)+1,Table1368[Date revente],"<"&EOMONTH(TODAY(),0)+1) -> 858.94355 | D4: =SUMIFS(Table1368[Bénéfice],Table1368[Date revente],">="&EOMONTH(TODAY(),-2)+1,Table1368[Date revente],"<"&EOMONTH(TODAY(),-1)+1) -> 2060.4672 | E4: =SUMIFS(Table1368[Bénéfice],Table1368[Date revente],">="&DATE(YEAR(TODAY()),1,1),Table1368[Date revente],"<"&DATE(YEAR(TODAY())+1,1,1)) -> 10901.953 | F4: =SUMIFS(Table1368[Bénéfice],Table1368[Date revente],">="&DATE(YEAR(TODAY())-1,1,1),Table1368[Date revente],"<"&DATE(YEAR(TODAY()),1,1)) -> 1684.67 | G4: =IF(SUMIFS(Table1368[[Bénéfice]:[Bénéfice]],Table1368[[Date revente]:[Date revente]],">="&G$2,Table1368[[Date revente]:[Date revente]],"<"&EDATE(G$2,1))=0,"-",SUMIFS(Table1368[[Bénéfice]:[Bénéfice]],Table1368[[Date revente]:[Date revente]],">="&G$2,Table1368[[Date revente]:[Date revente]],"<"&EDATE(G$2,1))) -> 753.38159 | H4: =IF(SUMIFS(Table1368[[Bénéfice]:[Bénéfice]],Table1368[[Date revente]:[Date revente]],">="&H$2,Table1368[[Date revente]:[Date revente]],"<"&EDATE(H$2,1))=0,"-",SUMIFS(Table1368[[Bénéfice]:[Bénéfice]],Table1368[[Date revente]:[Date revente]],">="&H$2,Table1368[[Date revente]:[Date revente]],"<"&EDATE(H$2,1))) -> 715.58999 | I4: =IF(SUMIFS(Table1368[[Bénéfice]:[Bénéfice]],Table1368[[Date revente]:[Date revente]],">="&I$2,Table1368[[Date revente]:[Date revente]],"<"&EDATE(I$2,1))=0,"-",SUMIFS(Table1368[[Bénéfice]:[Bénéfice]],Table1368[[Date revente]:[Date revente]],">="&I$2,Table1368[[Date revente]:[Date revente]],"<"&EDATE(I$2,1))) -> 951.88679 | J4: =IF(SUMIFS(Table1368[[Bénéfice]:[Bénéfice]],Table1368[[Date revente]:[Date revente]],">="&J$2,Table1368[[Date revente]:[Date revente]],"<"&EDATE(J$2,1))=0,"-",SUMIFS(Table1368[[Bénéfice]:[Bénéfice]],Table1368[[Date revente]:[Date revente]],">="&J$2,Table1368[[Date revente]:[Date revente]],"<"&EDATE(J$2,1))) -> 1193.3314 | K4: =IF(SUMIFS(Table1368[[Bénéfice]:[Bénéfice]],Table1368[[Date revente]:[Date revente]],">="&K$2,Table1368[[Date revente]:[Date revente]],"<"&EDATE(K$2,1))=0,"-",SUMIFS(Table1368[[Bénéfice]:[Bénéfice]],Table1368[[Date revente]:[Date revente]],">="&K$2,Table1368[[Date revente]:[Date revente]],"<"&EDATE(K$2,1))) -> 1354.8675 | L4: =IF(SUMIFS(Table1368[[Bénéfice]:[Bénéfice]],Table1368[[Date revente]:[Date revente]],">="&L$2,Table1368[[Date revente]:[Date revente]],"<"&EDATE(L$2,1))=0,"-",SUMIFS(Table1368[[Bénéfice]:[Bénéfice]],Table1368[[Date revente]:[Date revente]],">="&L$2,Table1368[[Date revente]:[Date revente]],"<"&EDATE(L$2,1))) -> 1499.8118 | M4: =IF(SUMIFS(Table1368[[Bénéfice]:[Bénéfice]],Table1368[[Date revente]:[Date revente]],">="&M$2,Table1368[[Date revente]:[Date revente]],"<"&EDATE(M$2,1))=0,"-",SUMIFS(Table1368[[Bénéfice]:[Bénéfice]],Table1368[[Date revente]:[Date revente]],">="&M$2,Table1368[[Date revente]:[Date revente]],"<"&EDATE(M$2,1))) -> 1022.2707 | N4: =IF(SUMIFS(Table1368[[Bénéfice]:[Bénéfice]],Table1368[[Date revente]:[Date revente]],">="&N$2,Table1368[[Date revente]:[Date revente]],"<"&EDATE(N$2,1))=0,"-",SUMIFS(Table1368[[Bénéfice]:[Bénéfice]],Table1368[[Date revente]:[Date revente]],">="&N$2,Table1368[[Date revente]:[Date revente]],"<"&EDATE(N$2,1))) -> 491.40289 | ... R4: =IF(SUMIFS(Table1368[[Bénéfice]:[Bénéfice]],Table1368[[Date revente]:[Date revente]],">="&R$2,Table1368[[Date revente]:[Date revente]],"<"&EDATE(R$2,1))=0,"-",SUMIFS(Table1368[[Bénéfice]:[Bénéfice]],Table1368[[Date revente]:[Date revente]],">="&R$2,Table1368[[Date revente]:[Date revente]],"<"&EDATE(R$2,1))) -> -
A5: Ventes | B5: Bénéfice moyen (€) | C5: =IFERROR(AVERAGEIFS(Table1368[Bénéfice],Table1368[Date revente],">="&EOMONTH(TODAY(),-1)+1,Table1368[Date revente],"<"&EOMONTH(TODAY(),0)+1),"-") -> 61.353111 | D5: =IFERROR(AVERAGEIFS(Table1368[Bénéfice],Table1368[Date revente],">="&EOMONTH(TODAY(),-2)+1,Table1368[Date revente],"<"&EOMONTH(TODAY(),-1)+1),"-") -> 57.235199 | E5: =IFERROR(AVERAGEIFS(Table1368[Bénéfice],Table1368[Date revente],">="&DATE(YEAR(TODAY()),1,1),Table1368[Date revente],"<"&DATE(YEAR(TODAY())+1,1,1)),"-") -> 45.049394 | F5: =IFERROR(AVERAGEIFS(Table1368[Bénéfice],Table1368[Date revente],">="&DATE(YEAR(TODAY())-1,1,1),Table1368[Date revente],"<"&DATE(YEAR(TODAY()),1,1)),"-") -> 34.38102 | G5: =IFERROR(AVERAGEIFS(Table1368[[Bénéfice]:[Bénéfice]],Table1368[[Date revente]:[Date revente]],">="&G$2,Table1368[[Date revente]:[Date revente]],"<"&EDATE(G$2,1)),"-") -> 25.978676 | H5: =IFERROR(AVERAGEIFS(Table1368[[Bénéfice]:[Bénéfice]],Table1368[[Date revente]:[Date revente]],">="&H$2,Table1368[[Date revente]:[Date revente]],"<"&EDATE(H$2,1)),"-") -> 42.093529 | I5: =IFERROR(AVERAGEIFS(Table1368[[Bénéfice]:[Bénéfice]],Table1368[[Date revente]:[Date revente]],">="&I$2,Table1368[[Date revente]:[Date revente]],"<"&EDATE(I$2,1)),"-") -> 43.267581 | J5: =IFERROR(AVERAGEIFS(Table1368[[Bénéfice]:[Bénéfice]],Table1368[[Date revente]:[Date revente]],">="&J$2,Table1368[[Date revente]:[Date revente]],"<"&EDATE(J$2,1)),"-") -> 49.722141 | K5: =IFERROR(AVERAGEIFS(Table1368[[Bénéfice]:[Bénéfice]],Table1368[[Date revente]:[Date revente]],">="&K$2,Table1368[[Date revente]:[Date revente]],"<"&EDATE(K$2,1)),"-") -> 46.719568 | L5: =IFERROR(AVERAGEIFS(Table1368[[Bénéfice]:[Bénéfice]],Table1368[[Date revente]:[Date revente]],">="&L$2,Table1368[[Date revente]:[Date revente]],"<"&EDATE(L$2,1)),"-") -> 45.448844 | M5: =IFERROR(AVERAGEIFS(Table1368[[Bénéfice]:[Bénéfice]],Table1368[[Date revente]:[Date revente]],">="&M$2,Table1368[[Date revente]:[Date revente]],"<"&EDATE(M$2,1)),"-") -> 42.594611 | N5: =IFERROR(AVERAGEIFS(Table1368[[Bénéfice]:[Bénéfice]],Table1368[[Date revente]:[Date revente]],">="&N$2,Table1368[[Date revente]:[Date revente]],"<"&EDATE(N$2,1)),"-") -> 35.100206 | ... R5: =IFERROR(AVERAGEIFS(Table1368[[Bénéfice]:[Bénéfice]],Table1368[[Date revente]:[Date revente]],">="&R$2,Table1368[[Date revente]:[Date revente]],"<"&EDATE(R$2,1)),"-") -> -
A6: Ventes | B6: Profit moyen coef | C6: =IFERROR(SUMIFS(Table1368[Prix de revente],Table1368[Date revente],">="&EOMONTH(TODAY(),-1)+1,Table1368[Date revente],"<"&EOMONTH(TODAY(),0)+1)/SUMIFS(Table1368[Prix total Achat],Table1368[Date revente],">="&EOMONTH(TODAY(),-1)+1,Table1368[Date revente],"<"&EOMONTH(TODAY(),0)+1),"-") -> 2.7074496 | D6: =IFERROR(SUMIFS(Table1368[Prix de revente],Table1368[Date revente],">="&EOMONTH(TODAY(),-2)+1,Table1368[Date revente],"<"&EOMONTH(TODAY(),-1)+1)/SUMIFS(Table1368[Prix total Achat],Table1368[Date revente],">="&EOMONTH(TODAY(),-2)+1,Table1368[Date revente],"<"&EOMONTH(TODAY(),-1)+1),"-") -> 2.4078722 | E6: =IFERROR(SUMIFS(Table1368[Prix de revente],Table1368[Date revente],">="&DATE(YEAR(TODAY()),1,1),Table1368[Date revente],"<"&DATE(YEAR(TODAY())+1,1,1))/SUMIFS(Table1368[Prix total Achat],Table1368[Date revente],">="&DATE(YEAR(TODAY()),1,1),Table1368[Date revente],"<"&DATE(YEAR(TODAY())+1,1,1)),"-") -> 2.2984039 | F6: =IFERROR(SUMIFS(Table1368[Prix de revente],Table1368[Date revente],">="&DATE(YEAR(TODAY())-1,1,1),Table1368[Date revente],"<"&DATE(YEAR(TODAY()),1,1))/SUMIFS(Table1368[Prix total Achat],Table1368[Date revente],">="&DATE(YEAR(TODAY())-1,1,1),Table1368[Date revente],"<"&DATE(YEAR(TODAY()),1,1)),"-") -> 2.076721 | G6: =IFERROR(SUMIFS(Table1368[[Prix de revente]:[Prix de revente]],Table1368[[Date revente]:[Date revente]],">="&G$2,Table1368[[Date revente]:[Date revente]],"<"&EDATE(G$2,1))/SUMIFS(Table1368[[Prix total Achat]:[Prix total Achat]],Table1368[[Date revente]:[Date revente]],">="&G$2,Table1368[[Date revente]:[Date revente]],"<"&EDATE(G$2,1)),"-") -> 2.2051822 | H6: =IFERROR(SUMIFS(Table1368[[Prix de revente]:[Prix de revente]],Table1368[[Date revente]:[Date revente]],">="&H$2,Table1368[[Date revente]:[Date revente]],"<"&EDATE(H$2,1))/SUMIFS(Table1368[[Prix total Achat]:[Prix total Achat]],Table1368[[Date revente]:[Date revente]],">="&H$2,Table1368[[Date revente]:[Date revente]],"<"&EDATE(H$2,1)),"-") -> 1.976235 | I6: =IFERROR(SUMIFS(Table1368[[Prix de revente]:[Prix de revente]],Table1368[[Date revente]:[Date revente]],">="&I$2,Table1368[[Date revente]:[Date revente]],"<"&EDATE(I$2,1))/SUMIFS(Table1368[[Prix total Achat]:[Prix total Achat]],Table1368[[Date revente]:[Date revente]],">="&I$2,Table1368[[Date revente]:[Date revente]],"<"&EDATE(I$2,1)),"-") -> 2.2255319 | J6: =IFERROR(SUMIFS(Table1368[[Prix de revente]:[Prix de revente]],Table1368[[Date revente]:[Date revente]],">="&J$2,Table1368[[Date revente]:[Date revente]],"<"&EDATE(J$2,1))/SUMIFS(Table1368[[Prix total Achat]:[Prix total Achat]],Table1368[[Date revente]:[Date revente]],">="&J$2,Table1368[[Date revente]:[Date revente]],"<"&EDATE(J$2,1)),"-") -> 2.3309984 | K6: =IFERROR(SUMIFS(Table1368[[Prix de revente]:[Prix de revente]],Table1368[[Date revente]:[Date revente]],">="&K$2,Table1368[[Date revente]:[Date revente]],"<"&EDATE(K$2,1))/SUMIFS(Table1368[[Prix total Achat]:[Prix total Achat]],Table1368[[Date revente]:[Date revente]],">="&K$2,Table1368[[Date revente]:[Date revente]],"<"&EDATE(K$2,1)),"-") -> 2.2742908 | L6: =IFERROR(SUMIFS(Table1368[[Prix de revente]:[Prix de revente]],Table1368[[Date revente]:[Date revente]],">="&L$2,Table1368[[Date revente]:[Date revente]],"<"&EDATE(L$2,1))/SUMIFS(Table1368[[Prix total Achat]:[Prix total Achat]],Table1368[[Date revente]:[Date revente]],">="&L$2,Table1368[[Date revente]:[Date revente]],"<"&EDATE(L$2,1)),"-") -> 2.3248424 | M6: =IFERROR(SUMIFS(Table1368[[Prix de revente]:[Prix de revente]],Table1368[[Date revente]:[Date revente]],">="&M$2,Table1368[[Date revente]:[Date revente]],"<"&EDATE(M$2,1))/SUMIFS(Table1368[[Prix total Achat]:[Prix total Achat]],Table1368[[Date revente]:[Date revente]],">="&M$2,Table1368[[Date revente]:[Date revente]],"<"&EDATE(M$2,1)),"-") -> 2.4130899 | N6: =IFERROR(SUMIFS(Table1368[[Prix de revente]:[Prix de revente]],Table1368[[Date revente]:[Date revente]],">="&N$2,Table1368[[Date revente]:[Date revente]],"<"&EDATE(N$2,1))/SUMIFS(Table1368[[Prix total Achat]:[Prix total Achat]],Table1368[[Date revente]:[Date revente]],">="&N$2,Table1368[[Date revente]:[Date revente]],"<"&EDATE(N$2,1)),"-") -> 2.0244024 | ... R6: =IFERROR(SUMIFS(Table1368[[Prix de revente]:[Prix de revente]],Table1368[[Date revente]:[Date revente]],">="&R$2,Table1368[[Date revente]:[Date revente]],"<"&EDATE(R$2,1))/SUMIFS(Table1368[[Prix total Achat]:[Prix total Achat]],Table1368[[Date revente]:[Date revente]],">="&R$2,Table1368[[Date revente]:[Date revente]],"<"&EDATE(R$2,1)),"-") -> -
A7: Ventes | B7: Panier moyen | C7: =IFERROR(AVERAGEIFS(Table1368[Prix de revente],Table1368[Date revente],">="&EOMONTH(TODAY(),-1)+1,Table1368[Date revente],"<"&EOMONTH(TODAY(),0)+1),"-") -> 97.285714 | D7: =IFERROR(AVERAGEIFS(Table1368[Prix de revente],Table1368[Date revente],">="&EOMONTH(TODAY(),-2)+1,Table1368[Date revente],"<"&EOMONTH(TODAY(),-1)+1),"-") -> 97.888889 | E7: =IFERROR(AVERAGEIFS(Table1368[Prix de revente],Table1368[Date revente],">="&DATE(YEAR(TODAY()),1,1),Table1368[Date revente],"<"&DATE(YEAR(TODAY())+1,1,1)),"-") -> 79.745372 | F7: =IFERROR(AVERAGEIFS(Table1368[Prix de revente],Table1368[Date revente],">="&DATE(YEAR(TODAY())-1,1,1),Table1368[Date revente],"<"&DATE(YEAR(TODAY()),1,1)),"-") -> 66.312245 | G7: =IFERROR(AVERAGEIFS(Table1368[[Prix de revente]:[Prix de revente]],Table1368[[Date revente]:[Date revente]],">="&G$2,Table1368[[Date revente]:[Date revente]],"<"&EDATE(G$2,1)),"-") -> 47.534483 | H7: =IFERROR(AVERAGEIFS(Table1368[[Prix de revente]:[Prix de revente]],Table1368[[Date revente]:[Date revente]],">="&H$2,Table1368[[Date revente]:[Date revente]],"<"&EDATE(H$2,1)),"-") -> 85.211765 | I7: =IFERROR(AVERAGEIFS(Table1368[[Prix de revente]:[Prix de revente]],Table1368[[Date revente]:[Date revente]],">="&I$2,Table1368[[Date revente]:[Date revente]],"<"&EDATE(I$2,1)),"-") -> 78.572727 | J7: =IFERROR(AVERAGEIFS(Table1368[[Prix de revente]:[Prix de revente]],Table1368[[Date revente]:[Date revente]],">="&J$2,Table1368[[Date revente]:[Date revente]],"<"&EDATE(J$2,1)),"-") -> 87.079167 | K7: =IFERROR(AVERAGEIFS(Table1368[[Prix de revente]:[Prix de revente]],Table1368[[Date revente]:[Date revente]],">="&K$2,Table1368[[Date revente]:[Date revente]],"<"&EDATE(K$2,1)),"-") -> 83.382759 | L7: =IFERROR(AVERAGEIFS(Table1368[[Prix de revente]:[Prix de revente]],Table1368[[Date revente]:[Date revente]],">="&L$2,Table1368[[Date revente]:[Date revente]],"<"&EDATE(L$2,1)),"-") -> 79.753939 | M7: =IFERROR(AVERAGEIFS(Table1368[[Prix de revente]:[Prix de revente]],Table1368[[Date revente]:[Date revente]],">="&M$2,Table1368[[Date revente]:[Date revente]],"<"&EDATE(M$2,1)),"-") -> 72.7375 | N7: =IFERROR(AVERAGEIFS(Table1368[[Prix de revente]:[Prix de revente]],Table1368[[Date revente]:[Date revente]],">="&N$2,Table1368[[Date revente]:[Date revente]],"<"&EDATE(N$2,1)),"-") -> 69.364286 | ... R7: =IFERROR(AVERAGEIFS(Table1368[[Prix de revente]:[Prix de revente]],Table1368[[Date revente]:[Date revente]],">="&R$2,Table1368[[Date revente]:[Date revente]],"<"&EDATE(R$2,1)),"-") -> -
A8: Ventes | B8: Ventes effectuées | C8: {=SUMPRODUCT(--(MONTH(Table1368[Date revente])=MONTH(TODAY())),--(YEAR(Table1368[Date revente])=YEAR(TODAY())))} -> 14 | D8: {=SUMPRODUCT(--(MONTH(Table1368[Date revente])=MONTH(EDATE(TODAY(),-1))),--(YEAR(Table1368[Date revente])=YEAR(EDATE(TODAY(),-1))))} -> 36 | E8: {=SUMPRODUCT(--(YEAR(Table1368[Date revente])=YEAR(TODAY())))} -> 242 | F8: {=SUMPRODUCT(--(YEAR(Table1368[Date revente])=YEAR(TODAY())-1))} -> 49 | G8: =IF(COUNTIFS(Table1368[[Date revente]:[Date revente]],">="&G$2,Table1368[[Date revente]:[Date revente]],"<"&EDATE(G$2,1))=0,"-",COUNTIFS(Table1368[[Date revente]:[Date revente]],">="&G$2,Table1368[[Date revente]:[Date revente]],"<"&EDATE(G$2,1))) -> 29 | H8: =IF(COUNTIFS(Table1368[[Date revente]:[Date revente]],">="&H$2,Table1368[[Date revente]:[Date revente]],"<"&EDATE(H$2,1))=0,"-",COUNTIFS(Table1368[[Date revente]:[Date revente]],">="&H$2,Table1368[[Date revente]:[Date revente]],"<"&EDATE(H$2,1))) -> 17 | I8: =IF(COUNTIFS(Table1368[[Date revente]:[Date revente]],">="&I$2,Table1368[[Date revente]:[Date revente]],"<"&EDATE(I$2,1))=0,"-",COUNTIFS(Table1368[[Date revente]:[Date revente]],">="&I$2,Table1368[[Date revente]:[Date revente]],"<"&EDATE(I$2,1))) -> 22 | J8: =IF(COUNTIFS(Table1368[[Date revente]:[Date revente]],">="&J$2,Table1368[[Date revente]:[Date revente]],"<"&EDATE(J$2,1))=0,"-",COUNTIFS(Table1368[[Date revente]:[Date revente]],">="&J$2,Table1368[[Date revente]:[Date revente]],"<"&EDATE(J$2,1))) -> 24 | K8: =IF(COUNTIFS(Table1368[[Date revente]:[Date revente]],">="&K$2,Table1368[[Date revente]:[Date revente]],"<"&EDATE(K$2,1))=0,"-",COUNTIFS(Table1368[[Date revente]:[Date revente]],">="&K$2,Table1368[[Date revente]:[Date revente]],"<"&EDATE(K$2,1))) -> 29 | L8: =IF(COUNTIFS(Table1368[[Date revente]:[Date revente]],">="&L$2,Table1368[[Date revente]:[Date revente]],"<"&EDATE(L$2,1))=0,"-",COUNTIFS(Table1368[[Date revente]:[Date revente]],">="&L$2,Table1368[[Date revente]:[Date revente]],"<"&EDATE(L$2,1))) -> 33 | M8: =IF(COUNTIFS(Table1368[[Date revente]:[Date revente]],">="&M$2,Table1368[[Date revente]:[Date revente]],"<"&EDATE(M$2,1))=0,"-",COUNTIFS(Table1368[[Date revente]:[Date revente]],">="&M$2,Table1368[[Date revente]:[Date revente]],"<"&EDATE(M$2,1))) -> 24 | N8: =IF(COUNTIFS(Table1368[[Date revente]:[Date revente]],">="&N$2,Table1368[[Date revente]:[Date revente]],"<"&EDATE(N$2,1))=0,"-",COUNTIFS(Table1368[[Date revente]:[Date revente]],">="&N$2,Table1368[[Date revente]:[Date revente]],"<"&EDATE(N$2,1))) -> 14 | ... R8: =IF(COUNTIFS(Table1368[[Date revente]:[Date revente]],">="&R$2,Table1368[[Date revente]:[Date revente]],"<"&EDATE(R$2,1))=0,"-",COUNTIFS(Table1368[[Date revente]:[Date revente]],">="&R$2,Table1368[[Date revente]:[Date revente]],"<"&EDATE(R$2,1))) -> -
A9: Achats | B9: Total achat (montant) | C9: =SUMIFS(Table1368[Prix total Achat],Table1368[Date achat],">="&EOMONTH(TODAY(),-1)+1,Table1368[Date achat],"<"&EOMONTH(TODAY(),0)+1) -> 94.97 | D9: =SUMIFS(Table1368[Prix total Achat],Table1368[Date achat],">="&EOMONTH(TODAY(),-2)+1,Table1368[Date achat],"<"&EOMONTH(TODAY(),-1)+1) -> 734.04895 | E9: =SUMIFS(Table1368[Prix total Achat],Table1368[Date achat],">="&DATE(YEAR(TODAY()),1,1),Table1368[Date achat],"<"&DATE(YEAR(TODAY())+1,1,1)) -> 11520.357 | F9: =SUMIFS(Table1368[Prix total Achat],Table1368[Date achat],">="&DATE(YEAR(TODAY())-1,1,1),Table1368[Date achat],"<"&DATE(YEAR(TODAY()),1,1)) -> 2525.1196 | G9: 928 | H9: =IF(SUMIFS(Table1368[[Prix total Achat]:[Prix total Achat]],Table1368[[Date achat]:[Date achat]],">="&H$2,Table1368[[Date achat]:[Date achat]],"<"&EDATE(H$2,1))=0,"-",SUMIFS(Table1368[[Prix total Achat]:[Prix total Achat]],Table1368[[Date achat]:[Date achat]],">="&H$2,Table1368[[Date achat]:[Date achat]],"<"&EDATE(H$2,1))) -> - | I9: =IF(SUMIFS(Table1368[[Prix total Achat]:[Prix total Achat]],Table1368[[Date achat]:[Date achat]],">="&I$2,Table1368[[Date achat]:[Date achat]],"<"&EDATE(I$2,1))=0,"-",SUMIFS(Table1368[[Prix total Achat]:[Prix total Achat]],Table1368[[Date achat]:[Date achat]],">="&I$2,Table1368[[Date achat]:[Date achat]],"<"&EDATE(I$2,1))) -> 968.78884 | J9: =IF(SUMIFS(Table1368[[Prix total Achat]:[Prix total Achat]],Table1368[[Date achat]:[Date achat]],">="&J$2,Table1368[[Date achat]:[Date achat]],"<"&EDATE(J$2,1))=0,"-",SUMIFS(Table1368[[Prix total Achat]:[Prix total Achat]],Table1368[[Date achat]:[Date achat]],">="&J$2,Table1368[[Date achat]:[Date achat]],"<"&EDATE(J$2,1))) -> 1995.4834 | K9: =IF(SUMIFS(Table1368[[Prix total Achat]:[Prix total Achat]],Table1368[[Date achat]:[Date achat]],">="&K$2,Table1368[[Date achat]:[Date achat]],"<"&EDATE(K$2,1))=0,"-",SUMIFS(Table1368[[Prix total Achat]:[Prix total Achat]],Table1368[[Date achat]:[Date achat]],">="&K$2,Table1368[[Date achat]:[Date achat]],"<"&EDATE(K$2,1))) -> 2414.5244 | L9: =IF(SUMIFS(Table1368[[Prix total Achat]:[Prix total Achat]],Table1368[[Date achat]:[Date achat]],">="&L$2,Table1368[[Date achat]:[Date achat]],"<"&EDATE(L$2,1))=0,"-",SUMIFS(Table1368[[Prix total Achat]:[Prix total Achat]],Table1368[[Date achat]:[Date achat]],">="&L$2,Table1368[[Date achat]:[Date achat]],"<"&EDATE(L$2,1))) -> 2184.9499 | M9: =IF(SUMIFS(Table1368[[Prix total Achat]:[Prix total Achat]],Table1368[[Date achat]:[Date achat]],">="&M$2,Table1368[[Date achat]:[Date achat]],"<"&EDATE(M$2,1))=0,"-",SUMIFS(Table1368[[Prix total Achat]:[Prix total Achat]],Table1368[[Date achat]:[Date achat]],">="&M$2,Table1368[[Date achat]:[Date achat]],"<"&EDATE(M$2,1))) -> 1339.3925 | N9: =IF(SUMIFS(Table1368[[Prix total Achat]:[Prix total Achat]],Table1368[[Date achat]:[Date achat]],">="&N$2,Table1368[[Date achat]:[Date achat]],"<"&EDATE(N$2,1))=0,"-",SUMIFS(Table1368[[Prix total Achat]:[Prix total Achat]],Table1368[[Date achat]:[Date achat]],">="&N$2,Table1368[[Date achat]:[Date achat]],"<"&EDATE(N$2,1))) -> 76.63 | O9: =IF(SUMIFS(Table1368[[Prix total Achat]:[Prix total Achat]],Table1368[[Date achat]:[Date achat]],">="&O$2,Table1368[[Date achat]:[Date achat]],"<"&EDATE(O$2,1))=0,"-",SUMIFS(Table1368[[Prix total Achat]:[Prix total Achat]],Table1368[[Date achat]:[Date achat]],">="&O$2,Table1368[[Date achat]:[Date achat]],"<"&EDATE(O$2,1))) -> 734.04895 | ... R9: =IF(SUMIFS(Table1368[[Prix total Achat]:[Prix total Achat]],Table1368[[Date achat]:[Date achat]],">="&R$2,Table1368[[Date achat]:[Date achat]],"<"&EDATE(R$2,1))=0,"-",SUMIFS(Table1368[[Prix total Achat]:[Prix total Achat]],Table1368[[Date achat]:[Date achat]],">="&R$2,Table1368[[Date achat]:[Date achat]],"<"&EDATE(R$2,1))) -> -
A10: Achats | B10: Prix moyen achat | C10: =IFERROR(AVERAGEIFS(Table1368[Prix total Achat],Table1368[Date achat],">="&EOMONTH(TODAY(),-1)+1,Table1368[Date achat],"<"&EOMONTH(TODAY(),0)+1),"-") -> 23.7425 | D10: =IFERROR(AVERAGEIFS(Table1368[Prix total Achat],Table1368[Date achat],">="&EOMONTH(TODAY(),-2)+1,Table1368[Date achat],"<"&EOMONTH(TODAY(),-1)+1),"-") -> 26.216034 | E10: =IFERROR(AVERAGEIFS(Table1368[Prix total Achat],Table1368[Date achat],">="&DATE(YEAR(TODAY()),1,1),Table1368[Date achat],"<"&DATE(YEAR(TODAY())+1,1,1)),"-") -> 35.12304 | F10: =IFERROR(AVERAGEIFS(Table1368[Prix total Achat],Table1368[Date achat],">="&DATE(YEAR(TODAY())-1,1,1),Table1368[Date achat],"<"&DATE(YEAR(TODAY()),1,1)),"-") -> 29.707289 | G10: 31 | H10: =IFERROR(AVERAGEIFS(Table1368[[Prix total Achat]:[Prix total Achat]],Table1368[[Date achat]:[Date achat]],">="&H$2,Table1368[[Date achat]:[Date achat]],"<"&EDATE(H$2,1)),"-") -> - | I10: =IFERROR(AVERAGEIFS(Table1368[[Prix total Achat]:[Prix total Achat]],Table1368[[Date achat]:[Date achat]],">="&I$2,Table1368[[Date achat]:[Date achat]],"<"&EDATE(I$2,1)),"-") -> 32.292961 | J10: =IFERROR(AVERAGEIFS(Table1368[[Prix total Achat]:[Prix total Achat]],Table1368[[Date achat]:[Date achat]],">="&J$2,Table1368[[Date achat]:[Date achat]],"<"&EDATE(J$2,1)),"-") -> 36.953396 | K10: =IFERROR(AVERAGEIFS(Table1368[[Prix total Achat]:[Prix total Achat]],Table1368[[Date achat]:[Date achat]],">="&K$2,Table1368[[Date achat]:[Date achat]],"<"&EDATE(K$2,1)),"-") -> 35.507711 | L10: =IFERROR(AVERAGEIFS(Table1368[[Prix total Achat]:[Prix total Achat]],Table1368[[Date achat]:[Date achat]],">="&L$2,Table1368[[Date achat]:[Date achat]],"<"&EDATE(L$2,1)),"-") -> 37.033049 | M10: =IFERROR(AVERAGEIFS(Table1368[[Prix total Achat]:[Prix total Achat]],Table1368[[Date achat]:[Date achat]],">="&M$2,Table1368[[Date achat]:[Date achat]],"<"&EDATE(M$2,1)),"-") -> 32.66811 | N10: =IFERROR(AVERAGEIFS(Table1368[[Prix total Achat]:[Prix total Achat]],Table1368[[Date achat]:[Date achat]],">="&N$2,Table1368[[Date achat]:[Date achat]],"<"&EDATE(N$2,1)),"-") -> 38.315 | O10: =IFERROR(AVERAGEIFS(Table1368[[Prix total Achat]:[Prix total Achat]],Table1368[[Date achat]:[Date achat]],">="&O$2,Table1368[[Date achat]:[Date achat]],"<"&EDATE(O$2,1)),"-") -> 26.216034 | ... R10: =IFERROR(AVERAGEIFS(Table1368[[Prix total Achat]:[Prix total Achat]],Table1368[[Date achat]:[Date achat]],">="&R$2,Table1368[[Date achat]:[Date achat]],"<"&EDATE(R$2,1)),"-") -> -
A11: Achats | B11: Achats effectués | C11: {=SUMPRODUCT(--(MONTH(Table1368[Date achat])=MONTH(TODAY())),--(YEAR(Table1368[Date achat])=YEAR(TODAY())))} -> 4 | D11: {=SUMPRODUCT(--(MONTH(Table1368[Date achat])=MONTH(EDATE(TODAY(),-1))),--(YEAR(Table1368[Date achat])=YEAR(EDATE(TODAY(),-1))))} -> 28 | E11: {=SUMPRODUCT(--(YEAR(Table1368[Date achat])=YEAR(TODAY())))} -> 328 | F11: - | G11: =IF(COUNTIFS(Table1368[[Date achat]:[Date achat]],">="&G$2,Table1368[[Date achat]:[Date achat]],"<"&EDATE(G$2,1))=0,"-",COUNTIFS(Table1368[[Date achat]:[Date achat]],">="&G$2,Table1368[[Date achat]:[Date achat]],"<"&EDATE(G$2,1))) -> 42 | H11: =IF(COUNTIFS(Table1368[[Date achat]:[Date achat]],">="&H$2,Table1368[[Date achat]:[Date achat]],"<"&EDATE(H$2,1))=0,"-",COUNTIFS(Table1368[[Date achat]:[Date achat]],">="&H$2,Table1368[[Date achat]:[Date achat]],"<"&EDATE(H$2,1))) -> - | I11: =IF(COUNTIFS(Table1368[[Date achat]:[Date achat]],">="&I$2,Table1368[[Date achat]:[Date achat]],"<"&EDATE(I$2,1))=0,"-",COUNTIFS(Table1368[[Date achat]:[Date achat]],">="&I$2,Table1368[[Date achat]:[Date achat]],"<"&EDATE(I$2,1))) -> 30 | J11: =IF(COUNTIFS(Table1368[[Date achat]:[Date achat]],">="&J$2,Table1368[[Date achat]:[Date achat]],"<"&EDATE(J$2,1))=0,"-",COUNTIFS(Table1368[[Date achat]:[Date achat]],">="&J$2,Table1368[[Date achat]:[Date achat]],"<"&EDATE(J$2,1))) -> 54 | K11: =IF(COUNTIFS(Table1368[[Date achat]:[Date achat]],">="&K$2,Table1368[[Date achat]:[Date achat]],"<"&EDATE(K$2,1))=0,"-",COUNTIFS(Table1368[[Date achat]:[Date achat]],">="&K$2,Table1368[[Date achat]:[Date achat]],"<"&EDATE(K$2,1))) -> 68 | L11: =IF(COUNTIFS(Table1368[[Date achat]:[Date achat]],">="&L$2,Table1368[[Date achat]:[Date achat]],"<"&EDATE(L$2,1))=0,"-",COUNTIFS(Table1368[[Date achat]:[Date achat]],">="&L$2,Table1368[[Date achat]:[Date achat]],"<"&EDATE(L$2,1))) -> 59 | M11: =IF(COUNTIFS(Table1368[[Date achat]:[Date achat]],">="&M$2,Table1368[[Date achat]:[Date achat]],"<"&EDATE(M$2,1))=0,"-",COUNTIFS(Table1368[[Date achat]:[Date achat]],">="&M$2,Table1368[[Date achat]:[Date achat]],"<"&EDATE(M$2,1))) -> 41 | N11: =IF(COUNTIFS(Table1368[[Date achat]:[Date achat]],">="&N$2,Table1368[[Date achat]:[Date achat]],"<"&EDATE(N$2,1))=0,"-",COUNTIFS(Table1368[[Date achat]:[Date achat]],">="&N$2,Table1368[[Date achat]:[Date achat]],"<"&EDATE(N$2,1))) -> 2 | ... R11: =IF(COUNTIFS(Table1368[[Date achat]:[Date achat]],">="&R$2,Table1368[[Date achat]:[Date achat]],"<"&EDATE(R$2,1))=0,"-",COUNTIFS(Table1368[[Date achat]:[Date achat]],">="&R$2,Table1368[[Date achat]:[Date achat]],"<"&EDATE(R$2,1))) -> -
A12: Délais | B12: Délai réception d'achat | C12: =IFERROR(AVERAGEIFS(Table1368[Délai achat > réception d''achat],Table1368[Date réception Achat],">="&EOMONTH(TODAY(),-1)+1,Table1368[Date réception Achat],"<"&EOMONTH(TODAY(),0)+1),"-") -> 46 | D12: =IFERROR(AVERAGEIFS(Table1368[Délai achat > réception d''achat],Table1368[Date réception Achat],">="&EOMONTH(TODAY(),-2)+1,Table1368[Date réception Achat],"<"&EOMONTH(TODAY(),-1)+1),"-") -> 51.322581 | E12: =IFERROR(AVERAGEIFS(Table1368[Délai achat > réception d''achat],Table1368[Date réception Achat],">="&DATE(YEAR(TODAY()),1,1),Table1368[Date réception Achat],"<"&DATE(YEAR(TODAY())+1,1,1)),"-") -> 27.865625 | F12: =IFERROR(AVERAGEIFS(Table1368[Délai achat > réception d''achat],Table1368[Date réception Achat],">="&DATE(YEAR(TODAY())-1,1,1),Table1368[Date réception Achat],"<"&DATE(YEAR(TODAY()),1,1)),"-") -> 10.987013 | G12: =IFERROR(AVERAGEIFS(Table1368[[Délai achat > réception d''achat]:[Délai achat > réception d''achat]],Table1368[[Date réception Achat]:[Date réception Achat]],">="&G$2,Table1368[[Date réception Achat]:[Date réception Achat]],"<"&EDATE(G$2,1)),"-") -> 10.210526 | H12: =IFERROR(AVERAGEIFS(Table1368[[Délai achat > réception d''achat]:[Délai achat > réception d''achat]],Table1368[[Date réception Achat]:[Date réception Achat]],">="&H$2,Table1368[[Date réception Achat]:[Date réception Achat]],"<"&EDATE(H$2,1)),"-") -> 22.548387 | I12: =IFERROR(AVERAGEIFS(Table1368[[Délai achat > réception d''achat]:[Délai achat > réception d''achat]],Table1368[[Date réception Achat]:[Date réception Achat]],">="&I$2,Table1368[[Date réception Achat]:[Date réception Achat]],"<"&EDATE(I$2,1)),"-") -> 10.47619 | J12: =IFERROR(AVERAGEIFS(Table1368[[Délai achat > réception d''achat]:[Délai achat > réception d''achat]],Table1368[[Date réception Achat]:[Date réception Achat]],">="&J$2,Table1368[[Date réception Achat]:[Date réception Achat]],"<"&EDATE(J$2,1)),"-") -> 7.8205128 | K12: =IFERROR(AVERAGEIFS(Table1368[[Délai achat > réception d''achat]:[Délai achat > réception d''achat]],Table1368[[Date réception Achat]:[Date réception Achat]],">="&K$2,Table1368[[Date réception Achat]:[Date réception Achat]],"<"&EDATE(K$2,1)),"-") -> 8.6842105 | L12: =IFERROR(AVERAGEIFS(Table1368[[Délai achat > réception d''achat]:[Délai achat > réception d''achat]],Table1368[[Date réception Achat]:[Date réception Achat]],">="&L$2,Table1368[[Date réception Achat]:[Date réception Achat]],"<"&EDATE(L$2,1)),"-") -> 30.054054 | M12: =IFERROR(AVERAGEIFS(Table1368[[Délai achat > réception d''achat]:[Délai achat > réception d''achat]],Table1368[[Date réception Achat]:[Date réception Achat]],">="&M$2,Table1368[[Date réception Achat]:[Date réception Achat]],"<"&EDATE(M$2,1)),"-") -> 30.127273 | N12: =IFERROR(AVERAGEIFS(Table1368[[Délai achat > réception d''achat]:[Délai achat > réception d''achat]],Table1368[[Date réception Achat]:[Date réception Achat]],">="&N$2,Table1368[[Date réception Achat]:[Date réception Achat]],"<"&EDATE(N$2,1)),"-") -> 75.210526 | ... R12: =IFERROR(AVERAGEIFS(Table1368[[Délai achat > réception d''achat]:[Délai achat > réception d''achat]],Table1368[[Date réception Achat]:[Date réception Achat]],">="&R$2,Table1368[[Date réception Achat]:[Date réception Achat]],"<"&EDATE(R$2,1)),"-") -> -
A13: Délais | B13: Délai relisting | C13: =IFERROR(AVERAGEIFS(Table1368[Délai réception d''achat > relisting],Table1368[Date relisting],">="&EOMONTH(TODAY(),-1)+1,Table1368[Date relisting],"<"&EOMONTH(TODAY(),0)+1),"-") -> 4.2777778 | D13: =IFERROR(AVERAGEIFS(Table1368[Délai réception d''achat > relisting],Table1368[Date relisting],">="&EOMONTH(TODAY(),-2)+1,Table1368[Date relisting],"<"&EOMONTH(TODAY(),-1)+1),"-") -> 22.362069 | E13: =IFERROR(AVERAGEIFS(Table1368[Délai réception d''achat > relisting],Table1368[Date relisting],">="&DATE(YEAR(TODAY()),1,1),Table1368[Date relisting],"<"&DATE(YEAR(TODAY())+1,1,1)),"-") -> 6.9423077 | F13: =IFERROR(AVERAGEIFS(Table1368[Délai réception d''achat > relisting],Table1368[Date relisting],">="&DATE(YEAR(TODAY())-1,1,1),Table1368[Date relisting],"<"&DATE(YEAR(TODAY()),1,1)),"-") -> 4.5915493 | G13: =IFERROR(AVERAGEIFS(Table1368[[Délai réception d''achat > relisting]:[Délai réception d''achat > relisting]],Table1368[[Date relisting]:[Date relisting]],">="&G$2,Table1368[[Date relisting]:[Date relisting]],"<"&EDATE(G$2,1)),"-") -> 8.36 | H13: =IFERROR(AVERAGEIFS(Table1368[[Délai réception d''achat > relisting]:[Délai réception d''achat > relisting]],Table1368[[Date relisting]:[Date relisting]],">="&H$2,Table1368[[Date relisting]:[Date relisting]],"<"&EDATE(H$2,1)),"-") -> 2.4516129 | I13: =IFERROR(AVERAGEIFS(Table1368[[Délai réception d''achat > relisting]:[Délai réception d''achat > relisting]],Table1368[[Date relisting]:[Date relisting]],">="&I$2,Table1368[[Date relisting]:[Date relisting]],"<"&EDATE(I$2,1)),"-") -> 1.047619 | J13: =IFERROR(AVERAGEIFS(Table1368[[Délai réception d''achat > relisting]:[Délai réception d''achat > relisting]],Table1368[[Date relisting]:[Date relisting]],">="&J$2,Table1368[[Date relisting]:[Date relisting]],"<"&EDATE(J$2,1)),"-") -> 1.7419355 | K13: =IFERROR(AVERAGEIFS(Table1368[[Délai réception d''achat > relisting]:[Délai réception d''achat > relisting]],Table1368[[Date relisting]:[Date relisting]],">="&K$2,Table1368[[Date relisting]:[Date relisting]],"<"&EDATE(K$2,1)),"-") -> 2.2 | L13: =IFERROR(AVERAGEIFS(Table1368[[Délai réception d''achat > relisting]:[Délai réception d''achat > relisting]],Table1368[[Date relisting]:[Date relisting]],">="&L$2,Table1368[[Date relisting]:[Date relisting]],"<"&EDATE(L$2,1)),"-") -> 3.9736842 | M13: =IFERROR(AVERAGEIFS(Table1368[[Délai réception d''achat > relisting]:[Délai réception d''achat > relisting]],Table1368[[Date relisting]:[Date relisting]],">="&M$2,Table1368[[Date relisting]:[Date relisting]],"<"&EDATE(M$2,1)),"-") -> 4.0227273 | N13: =IFERROR(AVERAGEIFS(Table1368[[Délai réception d''achat > relisting]:[Délai réception d''achat > relisting]],Table1368[[Date relisting]:[Date relisting]],">="&N$2,Table1368[[Date relisting]:[Date relisting]],"<"&EDATE(N$2,1)),"-") -> 4 | ... R13: =IFERROR(AVERAGEIFS(Table1368[[Délai réception d''achat > relisting]:[Délai réception d''achat > relisting]],Table1368[[Date relisting]:[Date relisting]],">="&R$2,Table1368[[Date relisting]:[Date relisting]],"<"&EDATE(R$2,1)),"-") -> -
A14: Délais | B14: Délai revente | C14: =IFERROR(AVERAGEIFS(Table1368[Délai relisting > revente],Table1368[Date revente],">="&EOMONTH(TODAY(),-1)+1,Table1368[Date revente],"<"&EOMONTH(TODAY(),0)+1),"-") -> 28.214286 | D14: =IFERROR(AVERAGEIFS(Table1368[Délai relisting > revente],Table1368[Date revente],">="&EOMONTH(TODAY(),-2)+1,Table1368[Date revente],"<"&EOMONTH(TODAY(),-1)+1),"-") -> 68.333333 | E14: =IFERROR(AVERAGEIFS(Table1368[Délai relisting > revente],Table1368[Date revente],">="&DATE(YEAR(TODAY()),1,1),Table1368[Date revente],"<"&DATE(YEAR(TODAY())+1,1,1)),"-") -> 34.049587 | F14: =IFERROR(AVERAGEIFS(Table1368[Délai relisting > revente],Table1368[Date revente],">="&DATE(YEAR(TODAY())-1,1,1),Table1368[Date revente],"<"&DATE(YEAR(TODAY()),1,1)),"-") -> 23.857143 | G14: =IFERROR(AVERAGEIFS(Table1368[[Délai relisting > revente]:[Délai relisting > revente]],Table1368[[Date revente]:[Date revente]],">="&G$2,Table1368[[Date revente]:[Date revente]],"<"&EDATE(G$2,1)),"-") -> 20.482759 | H14: =IFERROR(AVERAGEIFS(Table1368[[Délai relisting > revente]:[Délai relisting > revente]],Table1368[[Date revente]:[Date revente]],">="&H$2,Table1368[[Date revente]:[Date revente]],"<"&EDATE(H$2,1)),"-") -> 21.941176 | I14: =IFERROR(AVERAGEIFS(Table1368[[Délai relisting > revente]:[Délai relisting > revente]],Table1368[[Date revente]:[Date revente]],">="&I$2,Table1368[[Date revente]:[Date revente]],"<"&EDATE(I$2,1)),"-") -> 31.681818 | J14: =IFERROR(AVERAGEIFS(Table1368[[Délai relisting > revente]:[Délai relisting > revente]],Table1368[[Date revente]:[Date revente]],">="&J$2,Table1368[[Date revente]:[Date revente]],"<"&EDATE(J$2,1)),"-") -> 39.25 | K14: =IFERROR(AVERAGEIFS(Table1368[[Délai relisting > revente]:[Délai relisting > revente]],Table1368[[Date revente]:[Date revente]],">="&K$2,Table1368[[Date revente]:[Date revente]],"<"&EDATE(K$2,1)),"-") -> 22.172414 | L14: =IFERROR(AVERAGEIFS(Table1368[[Délai relisting > revente]:[Délai relisting > revente]],Table1368[[Date revente]:[Date revente]],">="&L$2,Table1368[[Date revente]:[Date revente]],"<"&EDATE(L$2,1)),"-") -> 27.969697 | M14: =IFERROR(AVERAGEIFS(Table1368[[Délai relisting > revente]:[Délai relisting > revente]],Table1368[[Date revente]:[Date revente]],">="&M$2,Table1368[[Date revente]:[Date revente]],"<"&EDATE(M$2,1)),"-") -> 24 | N14: =IFERROR(AVERAGEIFS(Table1368[[Délai relisting > revente]:[Délai relisting > revente]],Table1368[[Date revente]:[Date revente]],">="&N$2,Table1368[[Date revente]:[Date revente]],"<"&EDATE(N$2,1)),"-") -> 45.5 | ... R14: =IFERROR(AVERAGEIFS(Table1368[[Délai relisting > revente]:[Délai relisting > revente]],Table1368[[Date revente]:[Date revente]],">="&R$2,Table1368[[Date revente]:[Date revente]],"<"&EDATE(R$2,1)),"-") -> -
A15: Délais | B15: Jours stockés | C15: =IFERROR(AVERAGEIFS(Table1368[Délai réception d''achat > vente (jours stockés)],Table1368[Date revente],">="&EOMONTH(TODAY(),-1)+1,Table1368[Date revente],"<"&EOMONTH(TODAY(),0)+1),"-") -> 47.571429 | D15: =IFERROR(AVERAGEIFS(Table1368[Délai réception d''achat > vente (jours stockés)],Table1368[Date revente],">="&EOMONTH(TODAY(),-2)+1,Table1368[Date revente],"<"&EOMONTH(TODAY(),-1)+1),"-") -> 79.944444 | E15: =IFERROR(AVERAGEIFS(Table1368[Délai réception d''achat > vente (jours stockés)],Table1368[Date revente],">="&DATE(YEAR(TODAY()),1,1),Table1368[Date revente],"<"&DATE(YEAR(TODAY())+1,1,1)),"-") -> 39.768595 | F15: =IFERROR(AVERAGEIFS(Table1368[Délai réception d''achat > vente (jours stockés)],Table1368[Date achat],">="&DATE(YEAR(TODAY())-1,1,1),Table1368[Date revente],"<"&DATE(YEAR(TODAY()),1,1)),"-") -> 28.469388 | G15: =IFERROR(AVERAGEIFS(Table1368[[Délai réception d''achat > vente (jours stockés)]:[Délai réception d''achat > vente (jours stockés)]],Table1368[[Date revente]:[Date revente]],">="&G$2,Table1368[[Date revente]:[Date revente]],"<"&EDATE(G$2,1)),"-") -> 25.517241 | H15: =IFERROR(AVERAGEIFS(Table1368[[Délai réception d''achat > vente (jours stockés)]:[Délai réception d''achat > vente (jours stockés)]],Table1368[[Date revente]:[Date revente]],">="&H$2,Table1368[[Date revente]:[Date revente]],"<"&EDATE(H$2,1)),"-") -> 29.294118 | I15: =IFERROR(AVERAGEIFS(Table1368[[Délai réception d''achat > vente (jours stockés)]:[Délai réception d''achat > vente (jours stockés)]],Table1368[[Date revente]:[Date revente]],">="&I$2,Table1368[[Date revente]:[Date revente]],"<"&EDATE(I$2,1)),"-") -> 34.5 | J15: =IFERROR(AVERAGEIFS(Table1368[[Délai réception d''achat > vente (jours stockés)]:[Délai réception d''achat > vente (jours stockés)]],Table1368[[Date revente]:[Date revente]],">="&J$2,Table1368[[Date revente]:[Date revente]],"<"&EDATE(J$2,1)),"-") -> 41.916667 | K15: =IFERROR(AVERAGEIFS(Table1368[[Délai réception d''achat > vente (jours stockés)]:[Délai réception d''achat > vente (jours stockés)]],Table1368[[Date revente]:[Date revente]],">="&K$2,Table1368[[Date revente]:[Date revente]],"<"&EDATE(K$2,1)),"-") -> 23.655172 | L15: =IFERROR(AVERAGEIFS(Table1368[[Délai réception d''achat > vente (jours stockés)]:[Délai réception d''achat > vente (jours stockés)]],Table1368[[Date revente]:[Date revente]],">="&L$2,Table1368[[Date revente]:[Date revente]],"<"&EDATE(L$2,1)),"-") -> 30.818182 | M15: =IFERROR(AVERAGEIFS(Table1368[[Délai réception d''achat > vente (jours stockés)]:[Délai réception d''achat > vente (jours stockés)]],Table1368[[Date revente]:[Date revente]],">="&M$2,Table1368[[Date revente]:[Date revente]],"<"&EDATE(M$2,1)),"-") -> 28.625 | N15: =IFERROR(AVERAGEIFS(Table1368[[Délai réception d''achat > vente (jours stockés)]:[Délai réception d''achat > vente (jours stockés)]],Table1368[[Date revente]:[Date revente]],">="&N$2,Table1368[[Date revente]:[Date revente]],"<"&EDATE(N$2,1)),"-") -> 49.071429 | ... R15: =IFERROR(AVERAGEIFS(Table1368[[Délai réception d''achat > vente (jours stockés)]:[Délai réception d''achat > vente (jours stockés)]],Table1368[[Date revente]:[Date revente]],">="&R$2,Table1368[[Date revente]:[Date revente]],"<"&EDATE(R$2,1)),"-") -> -
A16: Inventaire | B16: Valeur d'achat en stock | C16: =SUMIFS(Table1368[Prix total Achat],Table1368[Statut],"Listé")+SUMIFS(Table1368[Prix total Achat],Table1368[Statut],"Acheté (reçu)") -> 3454.1236 | G16: 653.54117 | H16: 1313.9302 | I16: 1180.0346 | J16: 1728.7057 | K16: 2036.2393 | L16: 2153.8119 | M16: 3119.8653 | N16: 2935.0755 | O16: 3153.4015
A17: Inventaire | B17: Valeur d'achats en attente | C17: =SUMIFS(Table1368[Prix total Achat],Table1368[Statut],"Acheté (en attente)") -> 630.2963 | G17: 609.7245 | H17: 0 | I17: 325.966 | J17: 758.94481 | K17: 2006.0543 | L17: 2941.3157 | M17: 2517.172 | N17: 2298.8947 | O17: 1351.0848
A18: Inventaire | B18: Valeur stock totale | C18: =SUMIFS(Table1368[Prix total Achat],Table1368[Statut],"Listé")+SUMIFS(Table1368[Prix total Achat],Table1368[Statut],"Acheté (reçu)")+SUMIFS(Table1368[Prix total Achat],Table1368[Statut],"Acheté (en attente)") -> 4084.4199 | G18: 1263.2657 | H18: 1313.9302 | I18: 1506.0006 | J18: 2487.6505 | K18: 4042.2936 | L18: 5095.1276 | M18: 5637.0373 | N18: 5233.9702 | O18: 4504.4863
A19: Inventaire | B19: Achats reçus ce mois-ci | C19: {=SUMPRODUCT(--(MONTH(Table1368[Date réception Achat])=MONTH(TODAY())),--(YEAR(Table1368[Date réception Achat])=YEAR(TODAY())))} -> 30 | D19: {=SUMPRODUCT(--(MONTH(Table1368[Date réception Achat])=MONTH(EDATE(TODAY(),-1))),--(YEAR(Table1368[Date réception Achat])=YEAR(EDATE(TODAY(),-1))))} -> 31 | E19: {=SUMPRODUCT(--(YEAR(Table1368[Date réception Achat])=YEAR(TODAY())))} -> 320 | F19: {=SUMPRODUCT(--(YEAR(Table1368[Date réception Achat])=YEAR(TODAY())-1))} -> 77 | G19: 21 | H19: 31 | I19: 21 | J19: 39 | K19: 39 | L19: 37 | M19: 55 | N19: 0 | O19: 31
A20: Inventaire | B20: Articles listés ce mois-ci | C20: {=SUMPRODUCT(--(MONTH(Table1368[Date relisting])=MONTH(TODAY())),--(YEAR(Table1368[Date relisting])=YEAR(TODAY())))} -> 18 | D20: {=SUMPRODUCT(--(MONTH(Table1368[Date relisting])=MONTH(EDATE(TODAY(),-1))),--(YEAR(Table1368[Date relisting])=YEAR(EDATE(TODAY(),-1))))} -> 58 | E20: {=SUMPRODUCT(--(YEAR(Table1368[Date relisting])=YEAR(TODAY())))} -> 312 | F20: {=SUMPRODUCT(--(YEAR(Table1368[Date relisting])=YEAR(TODAY())-1))} -> 71 | G20: 27 | H20: 31 | I20: 21 | J20: 31 | K20: 46 | L20: 38 | M20: 44 | N20: 0 | O20: 58
A21: Inventaire | B21: Inventaire réél | C21: =COUNTIFS(Table1368[Statut],"Acheté (reçu)")+COUNTIFS(Table1368[Statut],"Listé") -> 106 | G21: 20 | H21: 32 | I21: 31 | J21: 44 | K21: 56 | L21: 60 | M21: 91 | N21: 83 | O21: 91
A22: Inventaire | B22: Inventaire en attente | C22: =COUNTIFS(Table1368[Statut],"Acheté (en attente)") -> 16 | G22: 17 | H22: 0 | I22: 9 | J22: 24 | K22: 55 | L22: 71 | M22: 62 | N22: 58 | O22: 42
A23: Inventaire | B23: Inventaire total | C23: =COUNTIFS(Table1368[Statut],"Acheté (reçu)")+COUNTIFS(Table1368[Statut],"Listé")+COUNTIFS(Table1368[Statut],"Acheté (en attente)") -> 122 | D23: - | E23: - | F23: - | G23: 37 | H23: 32 | I23: 40 | J23: 68 | K23: 111 | L23: 131 | M23: 153 | N23: 141 | O23: 133
A24: Objectif | B24: Total vente (CA) : objectif | C24: 7600 | D24: 7600 | E24: 91200 | G24: 7600 | H24: 7600 | I24: 7600 | J24: 7600 | K24: 7600 | L24: 7600 | M24: 7600 | N24: 7600 | O24: 7600 | P24: 7600 | Q24: 7600 | R24: 7600
A25: Objectif | B25: Total vente (CA) : Réel | C25: =SUMIFS(Table1368[Prix de revente],Table1368[Date revente],">="&EOMONTH(TODAY(),-1)+1,Table1368[Date revente],"<"&EOMONTH(TODAY(),0)+1) -> 1362 | D25: =SUMIFS(Table1368[Bénéfice],Table1368[Date revente],">="&EOMONTH(TODAY(),-2)+1,Table1368[Date revente],"<"&EOMONTH(TODAY(),-1)+1) -> 2060.4672 | E25: =SUMIFS(Table1368[Prix de revente],Table1368[Date revente],">="&DATE(YEAR(TODAY()),1,1),Table1368[Date revente],"<"&DATE(YEAR(TODAY())+1,1,1)) -> 19298.38 | G25: =IF(SUMIFS(Table1368[[Prix de revente]:[Prix de revente]],Table1368[[Date revente]:[Date revente]],">="&G$2,Table1368[[Date revente]:[Date revente]],"<"&EDATE(G$2,1))=0,"-",SUMIFS(Table1368[[Prix de revente]:[Prix de revente]],Table1368[[Date revente]:[Date revente]],">="&G$2,Table1368[[Date revente]:[Date revente]],"<"&EDATE(G$2,1))) -> 1378.5 | H25: =IF(SUMIFS(Table1368[[Prix de revente]:[Prix de revente]],Table1368[[Date revente]:[Date revente]],">="&H$2,Table1368[[Date revente]:[Date revente]],"<"&EDATE(H$2,1))=0,"-",SUMIFS(Table1368[[Prix de revente]:[Prix de revente]],Table1368[[Date revente]:[Date revente]],">="&H$2,Table1368[[Date revente]:[Date revente]],"<"&EDATE(H$2,1))) -> 1448.6 | I25: =IF(SUMIFS(Table1368[[Prix de revente]:[Prix de revente]],Table1368[[Date revente]:[Date revente]],">="&I$2,Table1368[[Date revente]:[Date revente]],"<"&EDATE(I$2,1))=0,"-",SUMIFS(Table1368[[Prix de revente]:[Prix de revente]],Table1368[[Date revente]:[Date revente]],">="&I$2,Table1368[[Date revente]:[Date revente]],"<"&EDATE(I$2,1))) -> 1728.6 | J25: =IF(SUMIFS(Table1368[[Prix de revente]:[Prix de revente]],Table1368[[Date revente]:[Date revente]],">="&J$2,Table1368[[Date revente]:[Date revente]],"<"&EDATE(J$2,1))=0,"-",SUMIFS(Table1368[[Prix de revente]:[Prix de revente]],Table1368[[Date revente]:[Date revente]],">="&J$2,Table1368[[Date revente]:[Date revente]],"<"&EDATE(J$2,1))) -> 2089.9 | K25: =IF(SUMIFS(Table1368[[Prix de revente]:[Prix de revente]],Table1368[[Date revente]:[Date revente]],">="&K$2,Table1368[[Date revente]:[Date revente]],"<"&EDATE(K$2,1))=0,"-",SUMIFS(Table1368[[Prix de revente]:[Prix de revente]],Table1368[[Date revente]:[Date revente]],">="&K$2,Table1368[[Date revente]:[Date revente]],"<"&EDATE(K$2,1))) -> 2418.1 | L25: =IF(SUMIFS(Table1368[[Prix de revente]:[Prix de revente]],Table1368[[Date revente]:[Date revente]],">="&L$2,Table1368[[Date revente]:[Date revente]],"<"&EDATE(L$2,1))=0,"-",SUMIFS(Table1368[[Prix de revente]:[Prix de revente]],Table1368[[Date revente]:[Date revente]],">="&L$2,Table1368[[Date revente]:[Date revente]],"<"&EDATE(L$2,1))) -> 2631.88 | M25: =IF(SUMIFS(Table1368[[Prix de revente]:[Prix de revente]],Table1368[[Date revente]:[Date revente]],">="&M$2,Table1368[[Date revente]:[Date revente]],"<"&EDATE(M$2,1))=0,"-",SUMIFS(Table1368[[Prix de revente]:[Prix de revente]],Table1368[[Date revente]:[Date revente]],">="&M$2,Table1368[[Date revente]:[Date revente]],"<"&EDATE(M$2,1))) -> 1745.7 | N25: =IF(SUMIFS(Table1368[[Prix de revente]:[Prix de revente]],Table1368[[Date revente]:[Date revente]],">="&N$2,Table1368[[Date revente]:[Date revente]],"<"&EDATE(N$2,1))=0,"-",SUMIFS(Table1368[[Prix de revente]:[Prix de revente]],Table1368[[Date revente]:[Date revente]],">="&N$2,Table1368[[Date revente]:[Date revente]],"<"&EDATE(N$2,1))) -> 971.1 | ... R25: =IF(SUMIFS(Table1368[[Prix de revente]:[Prix de revente]],Table1368[[Date revente]:[Date revente]],">="&R$2,Table1368[[Date revente]:[Date revente]],"<"&EDATE(R$2,1))=0,"-",SUMIFS(Table1368[[Prix de revente]:[Prix de revente]],Table1368[[Date revente]:[Date revente]],">="&R$2,Table1368[[Date revente]:[Date revente]],"<"&EDATE(R$2,1))) -> -
A26: Objectif | B26: Total vente (CA) % | C26: =C3/C24 -> 0.17921053 | D26: =D3/D24 -> 0.46368421 | E26: =E3/E24 -> 0.21160504 | G26: =G3/G24 -> 0.18138158 | H26: =H3/H24 -> 0.19060526 | I26: =I3/I24 -> 0.22744737 | J26: 0.30722368 | K26: =K3/K24 -> 0.31817105 | L26: =L3/L24 -> 0.3463 | M26: =M3/M24 -> 0.22969737 | N26: =N3/N24 -> 0.12777632 | O26: =O3/O24 -> 0.46368421 | P26: =P3/P24 -> 0.17921053 | Q26: =Q3/Q24 -> #VALUE! | R26: =R3/R24 -> #VALUE!
A27: Objectif | B27: Bénéfice : Objectif | C27: 4145 | D27: 4145 | E27: 49740 | G27: 4145 | H27: 4145 | I27: 4145 | J27: 4145 | K27: 4145 | L27: 4145 | M27: 4145 | N27: 4145 | O27: 4145 | P27: 4145 | Q27: 4145 | R27: 4145
A28: Objectif | B28: Bénéfice : Réel | C28: =SUMIFS(Table1368[Bénéfice],Table1368[Date revente],">="&EOMONTH(TODAY(),-1)+1,Table1368[Date revente],"<"&EOMONTH(TODAY(),0)+1) -> 858.94355 | D28: =SUMIFS(Table1368[Bénéfice],Table1368[Date revente],">="&EOMONTH(TODAY(),-2)+1,Table1368[Date revente],"<"&EOMONTH(TODAY(),-1)+1) -> 2060.4672 | E28: =SUMIFS(Table1368[Bénéfice],Table1368[Date revente],">="&DATE(YEAR(TODAY()),1,1),Table1368[Date revente],"<"&DATE(YEAR(TODAY())+1,1,1)) -> 10901.953 | G28: =IF(SUMIFS(Table1368[[Bénéfice]:[Bénéfice]],Table1368[[Date revente]:[Date revente]],">="&G$2,Table1368[[Date revente]:[Date revente]],"<"&EDATE(G$2,1))=0,"-",SUMIFS(Table1368[[Bénéfice]:[Bénéfice]],Table1368[[Date revente]:[Date revente]],">="&G$2,Table1368[[Date revente]:[Date revente]],"<"&EDATE(G$2,1))) -> 753.38159 | H28: =IF(SUMIFS(Table1368[[Bénéfice]:[Bénéfice]],Table1368[[Date revente]:[Date revente]],">="&H$2,Table1368[[Date revente]:[Date revente]],"<"&EDATE(H$2,1))=0,"-",SUMIFS(Table1368[[Bénéfice]:[Bénéfice]],Table1368[[Date revente]:[Date revente]],">="&H$2,Table1368[[Date revente]:[Date revente]],"<"&EDATE(H$2,1))) -> 715.58999 | I28: =IF(SUMIFS(Table1368[[Bénéfice]:[Bénéfice]],Table1368[[Date revente]:[Date revente]],">="&I$2,Table1368[[Date revente]:[Date revente]],"<"&EDATE(I$2,1))=0,"-",SUMIFS(Table1368[[Bénéfice]:[Bénéfice]],Table1368[[Date revente]:[Date revente]],">="&I$2,Table1368[[Date revente]:[Date revente]],"<"&EDATE(I$2,1))) -> 951.88679 | J28: =IF(SUMIFS(Table1368[[Bénéfice]:[Bénéfice]],Table1368[[Date revente]:[Date revente]],">="&J$2,Table1368[[Date revente]:[Date revente]],"<"&EDATE(J$2,1))=0,"-",SUMIFS(Table1368[[Bénéfice]:[Bénéfice]],Table1368[[Date revente]:[Date revente]],">="&J$2,Table1368[[Date revente]:[Date revente]],"<"&EDATE(J$2,1))) -> 1193.3314 | K28: =IF(SUMIFS(Table1368[[Bénéfice]:[Bénéfice]],Table1368[[Date revente]:[Date revente]],">="&K$2,Table1368[[Date revente]:[Date revente]],"<"&EDATE(K$2,1))=0,"-",SUMIFS(Table1368[[Bénéfice]:[Bénéfice]],Table1368[[Date revente]:[Date revente]],">="&K$2,Table1368[[Date revente]:[Date revente]],"<"&EDATE(K$2,1))) -> 1354.8675 | L28: =IF(SUMIFS(Table1368[[Bénéfice]:[Bénéfice]],Table1368[[Date revente]:[Date revente]],">="&L$2,Table1368[[Date revente]:[Date revente]],"<"&EDATE(L$2,1))=0,"-",SUMIFS(Table1368[[Bénéfice]:[Bénéfice]],Table1368[[Date revente]:[Date revente]],">="&L$2,Table1368[[Date revente]:[Date revente]],"<"&EDATE(L$2,1))) -> 1499.8118 | M28: =IF(SUMIFS(Table1368[[Bénéfice]:[Bénéfice]],Table1368[[Date revente]:[Date revente]],">="&M$2,Table1368[[Date revente]:[Date revente]],"<"&EDATE(M$2,1))=0,"-",SUMIFS(Table1368[[Bénéfice]:[Bénéfice]],Table1368[[Date revente]:[Date revente]],">="&M$2,Table1368[[Date revente]:[Date revente]],"<"&EDATE(M$2,1))) -> 1022.2707 | N28: =IF(SUMIFS(Table1368[[Bénéfice]:[Bénéfice]],Table1368[[Date revente]:[Date revente]],">="&N$2,Table1368[[Date revente]:[Date revente]],"<"&EDATE(N$2,1))=0,"-",SUMIFS(Table1368[[Bénéfice]:[Bénéfice]],Table1368[[Date revente]:[Date revente]],">="&N$2,Table1368[[Date revente]:[Date revente]],"<"&EDATE(N$2,1))) -> 491.40289 | ... R28: =IF(SUMIFS(Table1368[[Bénéfice]:[Bénéfice]],Table1368[[Date revente]:[Date revente]],">="&R$2,Table1368[[Date revente]:[Date revente]],"<"&EDATE(R$2,1))=0,"-",SUMIFS(Table1368[[Bénéfice]:[Bénéfice]],Table1368[[Date revente]:[Date revente]],">="&R$2,Table1368[[Date revente]:[Date revente]],"<"&EDATE(R$2,1))) -> -
A29: Objectif | B29: Bénéfice % | C29: =C4/C27 -> 0.20722402 | D29: =D4/D27 -> 0.49709703 | E29: =E4/E27 -> 0.2191788 | G29: =G4/G27 -> 0.18175672 | H29: =H4/H27 -> 0.17263932 | I29: =I4/I27 -> 0.22964699 | J29: 0.31871201 | K29: =K4/K27 -> 0.3268679 | L29: =L4/L27 -> 0.36183639 | M29: =M4/M27 -> 0.24662742 | N29: =N4/N27 -> 0.11855317 | O29: =O4/O27 -> 0.49709703 | P29: =P4/P27 -> 0.20722402 | Q29: =Q4/Q27 -> #VALUE! | R29: =R4/R27 -> #VALUE!
A30: Objectif | B30: Panier moyen : Objectif | C30: 80 | D30: 80 | E30: 80 | G30: 80 | H30: 80 | I30: 80 | J30: 80 | K30: 80 | L30: 80 | M30: 80 | N30: 80 | O30: 80 | P30: 80 | Q30: 80 | R30: 80
A31: Objectif | B31: Panier moyen : Réel | C31: =IFERROR(AVERAGEIFS(Table1368[Prix de revente],Table1368[Date revente],">="&EOMONTH(TODAY(),-1)+1,Table1368[Date revente],"<"&EOMONTH(TODAY(),0)+1),"-") -> 97.285714 | D31: =IFERROR(AVERAGEIFS(Table1368[Prix de revente],Table1368[Date revente],">="&EOMONTH(TODAY(),-2)+1,Table1368[Date revente],"<"&EOMONTH(TODAY(),-1)+1),"-") -> 97.888889 | E31: =IFERROR(AVERAGEIFS(Table1368[Prix de revente],Table1368[Date revente],">="&DATE(YEAR(TODAY()),1,1),Table1368[Date revente],"<"&DATE(YEAR(TODAY())+1,1,1)),"-") -> 79.745372 | G31: =IFERROR(AVERAGEIFS(Table1368[[Prix de revente]:[Prix de revente]],Table1368[[Date revente]:[Date revente]],">="&G$2,Table1368[[Date revente]:[Date revente]],"<"&EDATE(G$2,1)),"-") -> 47.534483 | H31: =IFERROR(AVERAGEIFS(Table1368[[Prix de revente]:[Prix de revente]],Table1368[[Date revente]:[Date revente]],">="&H$2,Table1368[[Date revente]:[Date revente]],"<"&EDATE(H$2,1)),"-") -> 85.211765 | I31: =IFERROR(AVERAGEIFS(Table1368[[Prix de revente]:[Prix de revente]],Table1368[[Date revente]:[Date revente]],">="&I$2,Table1368[[Date revente]:[Date revente]],"<"&EDATE(I$2,1)),"-") -> 78.572727 | J31: =IFERROR(AVERAGEIFS(Table1368[[Prix de revente]:[Prix de revente]],Table1368[[Date revente]:[Date revente]],">="&J$2,Table1368[[Date revente]:[Date revente]],"<"&EDATE(J$2,1)),"-") -> 87.079167 | K31: =IFERROR(AVERAGEIFS(Table1368[[Prix de revente]:[Prix de revente]],Table1368[[Date revente]:[Date revente]],">="&K$2,Table1368[[Date revente]:[Date revente]],"<"&EDATE(K$2,1)),"-") -> 83.382759 | L31: =IFERROR(AVERAGEIFS(Table1368[[Prix de revente]:[Prix de revente]],Table1368[[Date revente]:[Date revente]],">="&L$2,Table1368[[Date revente]:[Date revente]],"<"&EDATE(L$2,1)),"-") -> 79.753939 | M31: =IFERROR(AVERAGEIFS(Table1368[[Prix de revente]:[Prix de revente]],Table1368[[Date revente]:[Date revente]],">="&M$2,Table1368[[Date revente]:[Date revente]],"<"&EDATE(M$2,1)),"-") -> 72.7375 | N31: =IFERROR(AVERAGEIFS(Table1368[[Prix de revente]:[Prix de revente]],Table1368[[Date revente]:[Date revente]],">="&N$2,Table1368[[Date revente]:[Date revente]],"<"&EDATE(N$2,1)),"-") -> 69.364286 | ... R31: =IFERROR(AVERAGEIFS(Table1368[[Prix de revente]:[Prix de revente]],Table1368[[Date revente]:[Date revente]],">="&R$2,Table1368[[Date revente]:[Date revente]],"<"&EDATE(R$2,1)),"-") -> -
A32: Objectif | B32: Panier moyen % | C32: =C7/C30 -> 1.2160714 | D32: =D7/D30 -> 1.2236111 | E32: =E7/E30 -> 0.99681715 | G32: =G7/G30 -> 0.59418103 | H32: =H7/H30 -> 1.0651471 | I32: =I7/I30 -> 0.98215909 | J32: 1.1225481 | K32: =K7/K30 -> 1.0422845 | L32: =L7/L30 -> 0.99692424 | M32: =M7/M30 -> 0.90921875 | N32: =N7/N30 -> 0.86705357 | O32: =O7/O30 -> 1.2236111 | P32: =P7/P30 -> 1.2160714 | Q32: =Q7/Q30 -> #VALUE! | R32: =R7/R30 -> #VALUE!
A33: Objectif | B33: Bénéfice moyen : Objectif | C33: 44 | D33: 44 | E33: 44 | G33: 44 | H33: 44 | I33: 44 | J33: 44 | K33: 44 | L33: 44 | M33: 44 | N33: 44 | O33: 44 | P33: 44 | Q33: 44 | R33: 44
A34: Objectif | B34: Bénéfice moyen : Réel | C34: =IFERROR(AVERAGEIFS(Table1368[Bénéfice],Table1368[Date revente],">="&EOMONTH(TODAY(),-1)+1,Table1368[Date revente],"<"&EOMONTH(TODAY(),0)+1),"-") -> 61.353111 | D34: =IFERROR(AVERAGEIFS(Table1368[Bénéfice],Table1368[Date revente],">="&EOMONTH(TODAY(),-2)+1,Table1368[Date revente],"<"&EOMONTH(TODAY(),-1)+1),"-") -> 57.235199 | E34: =IFERROR(AVERAGEIFS(Table1368[Bénéfice],Table1368[Date revente],">="&DATE(YEAR(TODAY()),1,1),Table1368[Date revente],"<"&DATE(YEAR(TODAY())+1,1,1)),"-") -> 45.049394 | G34: =IFERROR(AVERAGEIFS(Table1368[[Bénéfice]:[Bénéfice]],Table1368[[Date revente]:[Date revente]],">="&G$2,Table1368[[Date revente]:[Date revente]],"<"&EDATE(G$2,1)),"-") -> 25.978676 | H34: =IFERROR(AVERAGEIFS(Table1368[[Bénéfice]:[Bénéfice]],Table1368[[Date revente]:[Date revente]],">="&H$2,Table1368[[Date revente]:[Date revente]],"<"&EDATE(H$2,1)),"-") -> 42.093529 | I34: =IFERROR(AVERAGEIFS(Table1368[[Bénéfice]:[Bénéfice]],Table1368[[Date revente]:[Date revente]],">="&I$2,Table1368[[Date revente]:[Date revente]],"<"&EDATE(I$2,1)),"-") -> 43.267581 | J34: =IFERROR(AVERAGEIFS(Table1368[[Bénéfice]:[Bénéfice]],Table1368[[Date revente]:[Date revente]],">="&J$2,Table1368[[Date revente]:[Date revente]],"<"&EDATE(J$2,1)),"-") -> 49.722141 | K34: =IFERROR(AVERAGEIFS(Table1368[[Bénéfice]:[Bénéfice]],Table1368[[Date revente]:[Date revente]],">="&K$2,Table1368[[Date revente]:[Date revente]],"<"&EDATE(K$2,1)),"-") -> 46.719568 | L34: =IFERROR(AVERAGEIFS(Table1368[[Bénéfice]:[Bénéfice]],Table1368[[Date revente]:[Date revente]],">="&L$2,Table1368[[Date revente]:[Date revente]],"<"&EDATE(L$2,1)),"-") -> 45.448844 | M34: =IFERROR(AVERAGEIFS(Table1368[[Bénéfice]:[Bénéfice]],Table1368[[Date revente]:[Date revente]],">="&M$2,Table1368[[Date revente]:[Date revente]],"<"&EDATE(M$2,1)),"-") -> 42.594611 | N34: =IFERROR(AVERAGEIFS(Table1368[[Bénéfice]:[Bénéfice]],Table1368[[Date revente]:[Date revente]],">="&N$2,Table1368[[Date revente]:[Date revente]],"<"&EDATE(N$2,1)),"-") -> 35.100206 | ... R34: =IFERROR(AVERAGEIFS(Table1368[[Bénéfice]:[Bénéfice]],Table1368[[Date revente]:[Date revente]],">="&R$2,Table1368[[Date revente]:[Date revente]],"<"&EDATE(R$2,1)),"-") -> -
A35: Objectif | B35: Bénéfice moyen % | C35: =C5/C33 -> 1.3943889 | D35: =D5/D33 -> 1.3008 | E35: =E5/E33 -> 1.0238499 | G35: =G5/G33 -> 0.59042445 | H35: =H5/H33 -> 0.95667111 | I35: =I5/I33 -> 0.98335412 | J35: 1.1547738 | K35: =K5/K33 -> 1.0618084 | L35: =L5/L33 -> 1.0329283 | M35: =M5/M33 -> 0.96805935 | N35: =N5/N33 -> 0.79773196 | O35: =O5/O33 -> 1.3008 | P35: =P5/P33 -> 1.3943889 | Q35: =Q5/Q33 -> #VALUE! | R35: =R5/R33 -> #VALUE!
A36: Objectif | B36: Profit moyen coef : Objectif | C36: 2.2 | D36: 2.2 | E36: 2.2 | G36: 2.2 | H36: 2.2 | I36: 2.2 | J36: 2.2 | K36: 2.2 | L36: 2.2 | M36: 2.2 | N36: 2.2 | O36: 2.2 | P36: 2.2 | Q36: 2.2 | R36: 2.2
